BEGIN:VCALENDAR
VERSION:2.0
PRODID:http://www.sankt-odilia-dillingen.de
BEGIN:VEVENT
UID:13710ad1-3cad-11f1-a3e9-0242ac11002b-1779886800000-de
DTSTAMP:20260420T113547Z
DTSTART:20260527T130000Z
DTEND:20260527T160000Z
SUMMARY;LANGUAGE=de:Kaffeenachmittag der Frauengemeinschaft St. Johann
DESCRIPTION;LANGUAGE=de:Kaffeenachmittag der Frauengemeinschaft St. Johann\nDie kath. Frauengemeinschaft St. Johann lädt zum Kaffeenachmittag am\nMittwoch\, 27. Mai\, um 15.00 Uhr in die ehemalige Hausmeisterwohnung im Gemeindehaus St. Johann ein. Neben Kaffee und Kuchen haben Sie Gelegenheit zum Gespräch\, Spielen\, Gedächtnistraining oder leichter Gymnastik.
END:VEVENT
END:VCALENDAR
