BEGIN:VCALENDAR
VERSION:2.0
PRODID:http://www.sankt-odilia-dillingen.de
BEGIN:VEVENT
UID:b6c37043-3cb3-11f1-a3e9-0242ac11002b-1779642000000-de
DTSTAMP:20260420T122318Z
DTSTART:20260524T170000Z
DTEND:20260524T203000Z
SUMMARY;LANGUAGE=de:Nacht der Kirchen –"Churchlympics - Kirchengames für alle Generationen" am Pfingstsonntag, 24. Mai
DESCRIPTION;LANGUAGE=de:Nacht der Kirchen –"Churchlympics - Kirchengames für alle Generationen" am Pfingstsonntag\, 24. Mai\nDie Katholische Jugend verwandelt den Saardom in eine Quiz-Erlebnis-Erkundungs-Kirche. An verschiedenen Stationen geht es um Wissen\, Geschicklichkeit\, Schnelligkeit\, aber auch der Spaß wird nicht zu kurz kommen.\nWer kennt sich am besten aus im Kirchenraum? Wer puzzelt am schnellsten? Wer schätzt am Genausten? Die einzelnen Stationen sind so geplant\, dass Kinder\, Jugendliche und Erwachsene in verschiedenen Schwierigkeitsstufen teilnehmen können. Hier darf man nicht nur ein Handy mit in die Kirche nehmen\, sondern benötigt es auch\, um alle Möglichkeiten nutzen zu können.\nDer Saardom ist von 19.00 Uhr bis 22.30 Uhr geöffnet. Getränke und Snacks zur Stärkung zwischendurch stehen bereit.\nGemeindereferentin Susanne Zengerly\n
IMAGE;VALUE=URI;DISPLAY=BADGE;FMTTYPE=image/jpeg:http://www.sankt-odilia-dillingen.de/export/sites/pfarreien/pfarrei-dillingen-sankt-odilia/.galleries/bilder/Nacht-der-Kirchen-26.jpg
END:VEVENT
END:VCALENDAR
