BEGIN:VCALENDAR
VERSION:2.0
PRODID:http://www.sankt-odilia-dillingen.de
BEGIN:VEVENT
UID:b7cf49f1-3cad-11f1-a3e9-0242ac11002b-1778158800000-de
DTSTAMP:20260420T114023Z
DTSTART:20260507T130000Z
DTEND:20260507T160000Z
SUMMARY;LANGUAGE=de:Kaffeenachmittag der Frauengemeinschaft in Pachten
DESCRIPTION;LANGUAGE=de:Kaffeenachmittag der Frauengemeinschaft in Pachten\nDer nächste Kaffeenachmittag findet am Donnerstag\, 7. Mai\, um 15.00 Uhr\, statt. Diesmal wollen wir anschließend eine Maiandacht anbieten.
END:VEVENT
END:VCALENDAR
