BEGIN:VCALENDAR
VERSION:2.0
PRODID:http://www.sankt-odilia-dillingen.de
BEGIN:VEVENT
UID:e502a17d-3c9e-11f1-a3e9-0242ac11002b-1778317200000-de
DTSTAMP:20260420T095416Z
DTSTART:20260509T090000Z
DTEND:20260509T100000Z
SUMMARY;LANGUAGE=de:Eisernes priesterjubiläum -65 Jahre- von Pater Paul hoffmann
DESCRIPTION;LANGUAGE=de:Eisernes priesterjubiläum -65 Jahre- von Pater Paul hoffmann\nAm 12. März 1961 wurde ich durch Bischof Wilhelm Marinus Bekkers van s-Hertogenbosch zum Priester geweiht. Am 1. August d.J. begann ich meine seelsorgerische Tätigkeit in Bonn. Diese setzte ich als Pfarrer zweier Gemeinden von Ende 1966 bis 1991 in Trier fort. Nebenbei begleitete ich die Theologiestudenten unserer Gemeinschaft.\nVon 1992 bis 2020 war ich als Klinikseelsorger im Dillinger Krankenhaus\, die letzten vier Jahre in der Elisabeth-Klinik zu Saarlouis. Darüber hinaus half ich mit in den Pfarreien des Dekanates Dillingen\, vor allem in Maria Trost. Bis heute halte ich gerne Hl. Messen\, Sterbeämter und Beerdigungen in der Pfarrei St. Odilia\, Nalbach Heilig Geist oder wo auch immer. Ich hoffe\, dass auch weiterhin die körperliche und geistige Gesundheit das in meinem hohen Alter zulässt.\nMeine Dankbarkeit will ich Gott sagen in dem Gottesdienst am Samstag\, 9. Mai\, um 11.00 Uhr\, in der Kirche Maria Trost. Hierzu lade ich gerne ein\, vor allem die\, die ich seelsorglich in den zurückliegenden Jahren begleiten durfte. Ich freue mich schon jetzt auf viele frohe Begegnungen.\nIhr Pater Paul Hoffmann\n
IMAGE;VALUE=URI;DISPLAY=BADGE;FMTTYPE=image/jpeg:http://www.sankt-odilia-dillingen.de/export/sites/pfarreien/pfarrei-dillingen-sankt-odilia/.galleries/bilder/Paul-Hoffmann.jpg
END:VEVENT
END:VCALENDAR
